BEGIN:VCALENDAR
VERSION:2.0
PRODID:-//culturevalais.ch-1776935257//NONSGML kigkonsult.se iCalcreator 2.41.92//
CALSCALE:GREGORIAN
METHOD:PUBLISH
UID:64363266-6365-4132-b766-333430613866
X-WR-CALNAME:Walliser Kultur Agenda
X-WR-TIMEZONE:Europe/Zurich
BEGIN:VTIMEZONE
TZID:Europe/Zurich
TZUNTIL:20270328T010000Z
BEGIN:STANDARD
TZNAME:CET
DTSTART:20241027T030000
TZOFFSETFROM:+0200
TZOFFSETTO:+0100
RDATE:20251026T030000
RDATE:20261025T030000
END:STANDARD
BEGIN:DAYLIGHT
TZNAME:CEST
DTSTART:20250330T020000
TZOFFSETFROM:+0100
TZOFFSETTO:+0200
RDATE:20260329T020000
END:DAYLIGHT
END:VTIMEZONE
BEGIN:VEVENT
UID:34376136-3361-4862-a564-336335393561
DTSTAMP:20260423T090737Z
CLASS:PUBLIC
DESCRIPTION:Im Rahmen der Konferenz 'Carrefour de la Transition' veranstalt
 en die Walliser Konferenz der Kulturdelegierten der Städte und des Kantons
  (CRAC)\, Kartel und die Dienststelle für Kultur ein Podium zum Thema 'Kul
 tur\, Nachhaltigkeit und Kreislaufwirtschaft'.
DTSTART;TZID=Europe/Zurich:20250501T140000
DTEND:20250501T153000
GEO:+46.228527;+7.368086
LOCATION:L'archipel Sion\, Rue de l'Industrie 47\, Sion
SEQUENCE:1
SUMMARY:Podium - Kultur\, Nachhaltigkeit und Kreislaufwirtschaft
TRANSP:TRANSPARENT
URL:https://event.valais-economie.ch/de/course/show/2051
END:VEVENT
END:VCALENDAR
