BEGIN:VCALENDAR
VERSION:2.0
PRODID:-//culturevalais.ch-1776764916//NONSGML kigkonsult.se iCalcreator 2.41.92//
CALSCALE:GREGORIAN
METHOD:PUBLISH
UID:35303630-3465-4233-a261-613139323866
X-WR-CALNAME:Walliser Kultur Agenda
X-WR-TIMEZONE:Europe/Zurich
BEGIN:VTIMEZONE
TZID:Europe/Zurich
TZUNTIL:20270328T010000Z
BEGIN:STANDARD
TZNAME:CET
DTSTART:20241027T030000
TZOFFSETFROM:+0200
TZOFFSETTO:+0100
RDATE:20251026T030000
RDATE:20261025T030000
END:STANDARD
BEGIN:DAYLIGHT
TZNAME:CEST
DTSTART:20250330T020000
TZOFFSETFROM:+0100
TZOFFSETTO:+0200
RDATE:20260329T020000
END:DAYLIGHT
END:VTIMEZONE
BEGIN:VEVENT
UID:35323930-6534-4665-b966-343735613233
DTSTAMP:20260421T094836Z
CLASS:PUBLIC
DESCRIPTION:An der KinderUni machen sich neugierige Kinder zwischen 8 – 14 
 Jahren Gedanken über die Welt und erhalten Antworten von Leuten\, die dies
 e Dinge an der Uni studiert und erforscht haben.
DTSTART;TZID=Europe/Zurich:20250903T133000
DTEND:20250903T163000
GEO:+46.296062;+7.882915
LOCATION:MINTWorld\, Rottenstrasse 5\, Visp
SEQUENCE:1
SUMMARY:Arbeiten im Biologielabor – Hefe\, die Wunderwaffe!
TRANSP:TRANSPARENT
URL:https://event.valais-economie.ch/de/course/show/2094
END:VEVENT
END:VCALENDAR
