BEGIN:VCALENDAR
VERSION:2.0
PRODID:-//culturevalais.ch-1776941723//NONSGML kigkonsult.se iCalcreator 2.41.92//
CALSCALE:GREGORIAN
METHOD:PUBLISH
UID:66373139-3961-4435-a665-366538363632
X-WR-CALNAME:Walliser Kultur Agenda
X-WR-TIMEZONE:Europe/Zurich
BEGIN:VTIMEZONE
TZID:Europe/Zurich
TZUNTIL:20271031T010000Z
BEGIN:STANDARD
TZNAME:CET
DTSTART:20251026T030000
TZOFFSETFROM:+0200
TZOFFSETTO:+0100
RDATE:20261025T030000
END:STANDARD
BEGIN:DAYLIGHT
TZNAME:CEST
DTSTART:20250330T020000
TZOFFSETFROM:+0100
TZOFFSETTO:+0200
RDATE:20260329T020000
RDATE:20270328T020000
END:DAYLIGHT
END:VTIMEZONE
BEGIN:VEVENT
UID:31653962-6638-4565-a331-333437643434
DTSTAMP:20260423T105523Z
CLASS:PUBLIC
DESCRIPTION:PRISM bietet eine praxisorientierte Schulung an\, um die Mechan
 ismen der Monetarisierung sozialer Netzwerke besser zu verstehen – speziel
 l zugeschnitten auf die Realität von Unternehmerinnen und Unternehmern aus
  der Kultur- und Kreativwirtschaft (KKW).
DTSTART;TZID=Europe/Zurich:20251127T170000
DTEND:20251127T180000
GEO:+46.230499;+7.366615
LOCATION:BioArk Visp\, Rottenstrasse 7\, Visp
SEQUENCE:1
SUMMARY:Monetarisierung von Inhalten auf Plattformen
TRANSP:TRANSPARENT
URL:https://event.valais-economie.ch/de/course/show/2268
END:VEVENT
END:VCALENDAR
