BEGIN:VCALENDAR
VERSION:2.0
PRODID:-//culturevalais.ch-1776721374//NONSGML kigkonsult.se iCalcreator 2.41.92//
CALSCALE:GREGORIAN
METHOD:PUBLISH
UID:30363232-3131-4834-a266-336163313234
X-WR-CALNAME:L'agenda culturel du Valais
X-WR-TIMEZONE:Europe/Zurich
BEGIN:VTIMEZONE
TZID:Europe/Zurich
TZUNTIL:20270328T010000Z
BEGIN:STANDARD
TZNAME:CET
DTSTART:20241027T030000
TZOFFSETFROM:+0200
TZOFFSETTO:+0100
RDATE:20251026T030000
RDATE:20261025T030000
END:STANDARD
BEGIN:DAYLIGHT
TZNAME:CEST
DTSTART:20250330T020000
TZOFFSETFROM:+0100
TZOFFSETTO:+0200
RDATE:20260329T020000
END:DAYLIGHT
END:VTIMEZONE
BEGIN:VEVENT
UID:30386538-3965-4664-b664-643336343535
DTSTAMP:20260420T214254Z
CLASS:PUBLIC
DESCRIPTION:Culture Valais et le KulturNetz Brig-Glis-Naters vous invitent 
 au KulturTräff du 18 septembre 2025 au Grünwaldsaal à Brigue.
DTSTART;TZID=Europe/Zurich:20250918T180000
DTEND:20250918T200000
GEO:+46.315296;+7.989091
LOCATION:Grünwald Saal\, Schlossstrasse 30\, Brig
SEQUENCE:1
SUMMARY:KulturTräff 2025
TRANSP:TRANSPARENT
URL:https://event.valais-economie.ch/fr/course/show/2041
END:VEVENT
END:VCALENDAR
