BEGIN:VCALENDAR
VERSION:2.0
PRODID:-//culturevalais.ch-1776769952//NONSGML kigkonsult.se iCalcreator 2.41.92//
CALSCALE:GREGORIAN
METHOD:PUBLISH
UID:36623338-3635-4137-b537-666339356365
X-WR-CALNAME:L'agenda culturel du Valais
X-WR-TIMEZONE:Europe/Zurich
BEGIN:VTIMEZONE
TZID:Europe/Zurich
TZUNTIL:20271031T010000Z
BEGIN:STANDARD
TZNAME:CET
DTSTART:20251026T030000
TZOFFSETFROM:+0200
TZOFFSETTO:+0100
RDATE:20261025T030000
END:STANDARD
BEGIN:DAYLIGHT
TZNAME:CEST
DTSTART:20250330T020000
TZOFFSETFROM:+0100
TZOFFSETTO:+0200
RDATE:20260329T020000
RDATE:20270328T020000
END:DAYLIGHT
END:VTIMEZONE
BEGIN:VEVENT
UID:34663333-3433-4130-a331-316562373030
DTSTAMP:20260421T111232Z
CLASS:PUBLIC
DESCRIPTION:An der KinderUni machen sich neugierige Kinder zwischen 8 – 14 
 Jahren Gedanken über die Welt und erhalten Antworten von Leuten\, die dies
 e Dinge an der Uni studiert und erforscht haben.
DTSTART;TZID=Europe/Zurich:20260204T133000
DTEND:20260204T160000
GEO:+46.314663;+7.993444
LOCATION:Kollegium Spiritus Sanctus\, Kollegiumsplatz 8\, Brig
SEQUENCE:1
SUMMARY:Wie reiste man in der Zeit?   Ein Spiel über historische Transportm
 ittel!
TRANSP:TRANSPARENT
URL:https://event.valais-economie.ch/fr/course/show/2092
END:VEVENT
END:VCALENDAR
