BEGIN:VCALENDAR
VERSION:2.0
PRODID:-//culturevalais.ch-1776934379//NONSGML kigkonsult.se iCalcreator 2.41.92//
CALSCALE:GREGORIAN
METHOD:PUBLISH
UID:62373136-3663-4064-b566-616339636161
X-WR-CALNAME:L'agenda culturel du Valais
X-WR-TIMEZONE:Europe/Zurich
BEGIN:VTIMEZONE
TZID:Europe/Zurich
TZUNTIL:20271031T010000Z
BEGIN:STANDARD
TZNAME:CET
DTSTART:20251026T030000
TZOFFSETFROM:+0200
TZOFFSETTO:+0100
RDATE:20261025T030000
END:STANDARD
BEGIN:DAYLIGHT
TZNAME:CEST
DTSTART:20250330T020000
TZOFFSETFROM:+0100
TZOFFSETTO:+0200
RDATE:20260329T020000
RDATE:20270328T020000
END:DAYLIGHT
END:VTIMEZONE
BEGIN:VEVENT
UID:35343133-6331-4238-a531-333563373535
DTSTAMP:20260423T085259Z
CLASS:PUBLIC
DESCRIPTION:An der KinderUni machen sich neugierige Kinder zwischen 8 – 14 
 Jahren Gedanken über die Welt und erhalten Antworten von Leuten\, die dies
 e Dinge an der Uni studiert und erforscht haben.
DTSTART;TZID=Europe/Zurich:20260318T133000
DTEND:20260318T163000
GEO:+46.296062;+7.882915
LOCATION:MINTWorld\, Rottenstrasse 5\, Visp
SEQUENCE:1
SUMMARY:Arbeiten im Biologielabor – Hefe\, die Wunderwaffe!
TRANSP:TRANSPARENT
URL:https://event.valais-economie.ch/fr/course/show/2094
END:VEVENT
END:VCALENDAR
