BEGIN:VCALENDAR
VERSION:2.0
PRODID:-//culturevalais.ch-1776764740//NONSGML kigkonsult.se iCalcreator 2.41.92//
CALSCALE:GREGORIAN
METHOD:PUBLISH
UID:34376564-6161-4562-a238-663238316331
X-WR-CALNAME:L'agenda culturel du Valais
X-WR-TIMEZONE:Europe/Zurich
BEGIN:VTIMEZONE
TZID:Europe/Zurich
TZUNTIL:20271031T010000Z
BEGIN:STANDARD
TZNAME:CET
DTSTART:20251026T030000
TZOFFSETFROM:+0200
TZOFFSETTO:+0100
RDATE:20261025T030000
END:STANDARD
BEGIN:DAYLIGHT
TZNAME:CEST
DTSTART:20250330T020000
TZOFFSETFROM:+0100
TZOFFSETTO:+0200
RDATE:20260329T020000
RDATE:20270328T020000
END:DAYLIGHT
END:VTIMEZONE
BEGIN:VEVENT
UID:62386561-6438-4262-b462-323466313239
DTSTAMP:20260421T094540Z
CLASS:PUBLIC
DESCRIPTION:CAS 100% online\, 5 bis 6 Monate\, 10 ECTS - Möglichkeit auch n
 ur einzelne Module daraus zu besuchen\, als Weiterbildungskurs mit je 2 EC
 TS.
DTSTART;TZID=Europe/Zurich:20260222T000000
DTEND:20260222T000000
LOCATION:
SEQUENCE:1
SUMMARY:CAS Psychologie du travail : santé et productivité
TRANSP:TRANSPARENT
URL:https://event.valais-economie.ch/fr/course/show/2204
END:VEVENT
END:VCALENDAR
