BEGIN:VCALENDAR
VERSION:2.0
PRODID:-//culturevalais.ch-1776775247//NONSGML kigkonsult.se iCalcreator 2.41.92//
CALSCALE:GREGORIAN
METHOD:PUBLISH
UID:37373135-6533-4264-b933-623839333034
X-WR-CALNAME:L'agenda culturel du Valais
X-WR-TIMEZONE:Europe/Zurich
BEGIN:VTIMEZONE
TZID:Europe/Zurich
TZUNTIL:20021027T010000Z
BEGIN:STANDARD
TZNAME:CET
DTSTART:19991031T030000
TZOFFSETFROM:+0200
TZOFFSETTO:+0100
RDATE:20001029T030000
RDATE:20011028T030000
END:STANDARD
BEGIN:DAYLIGHT
TZNAME:CEST
DTSTART:20000326T020000
TZOFFSETFROM:+0100
TZOFFSETTO:+0200
RDATE:20010325T020000
RDATE:20020331T020000
END:DAYLIGHT
END:VTIMEZONE
BEGIN:VEVENT
UID:33356136-3339-4266-b639-303136623161
DTSTAMP:20260421T124047Z
CLASS:PUBLIC
DESCRIPTION:Künstliche Intelligenz ist allgegenwärtig – aber kennen Sie die
  Regeln?\n\nIn einer zunehmend digitalisierten und KI-getriebenen Welt ste
 hen Unternehmen und Staaten vor der Herausforderung\, Künstliche Intellige
 nz (KI) verantwortungsvoll und regelkonform einzusetzen. Unser Weiterbildu
 ngskurs «KI-Regulation und AI Governance» bietet fundierte Einblicke in di
 e aktuellen und zukünftigen regulatorischen Anforderungen auf globaler und
  schweizerischer Ebene. FernUni Schweiz hat zusammen mit Dr. Anne-Sophie M
 orand\, Rechtsanwältin und Data Governance Counselor bei der Swisscom\, ei
 nen Weiterbildungskurs zu diesen Themen entwickelt\, welchen sie gemeinsam
  mit Dr.Sandra Husi\, Datenschutzbeauftragte des Eidgenössischen Justiz-un
 d Polizeidepartements EJPD\, durchführt Dieser Kurs richtet sich an Mitarb
 eitende\, die sich über die aktuellen rechtlichen und ethischen Grenzen be
 im Einsatz von KI-Systemen sowie über die Möglichkeiten der Implementierun
 g von AI Governance informiert sein wollen.
DTSTART;TZID=Europe/Zurich:20001020T000000
DTEND:20001020T000000
LOCATION:
SEQUENCE:1
SUMMARY:Weiterbildungskurs KI-Regulation und AI Governance
TRANSP:TRANSPARENT
URL:https://event.valais-economie.ch/fr/course/show/2228
END:VEVENT
END:VCALENDAR
